BEGIN:VCALENDAR
VERSION:2.0
PRODID:-//Espaces V.I.E. - ECPv6.8.2//NONSGML v1.0//EN
CALSCALE:GREGORIAN
METHOD:PUBLISH
X-ORIGINAL-URL:https://espacesvie.com
X-WR-CALDESC:Évènements pour Espaces V.I.E.
REFRESH-INTERVAL;VALUE=DURATION:PT1H
X-Robots-Tag:noindex
X-PUBLISHED-TTL:PT1H
BEGIN:VTIMEZONE
TZID:America/Toronto
BEGIN:DAYLIGHT
TZOFFSETFROM:-0500
TZOFFSETTO:-0400
TZNAME:EDT
DTSTART:20160313T070000
END:DAYLIGHT
BEGIN:STANDARD
TZOFFSETFROM:-0400
TZOFFSETTO:-0500
TZNAME:EST
DTSTART:20161106T060000
END:STANDARD
END:VTIMEZONE
BEGIN:VEVENT
DTSTART;TZID=America/Toronto:20161006T083000
DTEND;TZID=America/Toronto:20161006T160000
DTSTAMP:20260421T042630
CREATED:20160927T182313Z
LAST-MODIFIED:20160927T220551Z
UID:150-1475742600-1475769600@espacesvie.com
SUMMARY:Lancement des Espaces VIE
DESCRIPTION:La Concertation des luttes contre l’exploitation sexuelle se fait un plaisir de vous inviter au lancement des EspacesVIE qui aura lieu les 6 et 7 octobre 2016. \nC’est l’occasion de venir participer concrètement à la co-construction de ces espaces. \nNous vous attendons avec impatience pour le co-développement de nouvelles connaissances en matière d’exploitation sexuelle au Québec en vue de pratiques renouvelées au service du bien-être des femmes. \nCertains frais de déplacements seront remboursés. \nVeuillez confirmer votre présence auprès de espacesvie@lacles.org (514-750-4535) d’ici le mercredi 28 septembre à 17 h. N’hésitez pas à faire suivre cette invitation aux collègues qui aimeraient participer. \n 
URL:https://espacesvie.com/evenement/lancement-espaces-vie/
LOCATION:UQAM\, UQAM\, Pavillon Athanase-David\,1430 rue St-Denis\, DR-200\, Montréal\, Québec\, Canada
ORGANIZER;CN="Concertation des luttes contre l'exploitation sexuelle":MAILTO:info@lacles.org
END:VEVENT
END:VCALENDAR